Package: HoloFoodR Version: 1.1.0 Command: rm -rf HoloFoodR.buildbin-libdir && mkdir HoloFoodR.buildbin-libdir && /Users/biocbuild/BBS/utils/build-universal.sh HoloFoodR_1.1.0.tar.gz /Library/Frameworks/R.framework/Resources/bin/R HoloFoodR.buildbin-libdir StartedAt: 2025-02-09 22:17:33 -0500 (Sun, 09 Feb 2025) EndedAt: 2025-02-09 22:17:47 -0500 (Sun, 09 Feb 2025) EllapsedTime: 14.4 seconds RetCode: 0 Status: OK PackageFile: HoloFoodR_1.1.0.tgz PackageFileSize: 3.03 MiB