Package: HoloFoodR Version: 1.1.0 Command: /Library/Frameworks/R.framework/Resources/bin/R CMD build --keep-empty-dirs --no-resave-data HoloFoodR StartedAt: 2025-02-04 16:38:31 -0500 (Tue, 04 Feb 2025) EndedAt: 2025-02-04 16:40:25 -0500 (Tue, 04 Feb 2025) EllapsedTime: 114.2 seconds RetCode: 0 Status: OK PackageFile: HoloFoodR_1.1.0.tar.gz PackageFileSize: 2.969 MiB