Package: HoloFoodR Version: 1.1.0 Command: rm -rf HoloFoodR.buildbin-libdir && mkdir HoloFoodR.buildbin-libdir && /Users/biocbuild/BBS/utils/build-universal.sh HoloFoodR_1.1.0.tar.gz /Library/Frameworks/R.framework/Resources/bin/R HoloFoodR.buildbin-libdir StartedAt: 2025-02-10 00:58:00 -0500 (Mon, 10 Feb 2025) EndedAt: 2025-02-10 00:58:47 -0500 (Mon, 10 Feb 2025) EllapsedTime: 46.6 seconds RetCode: 0 Status: OK PackageFile: HoloFoodR_1.1.0.tgz PackageFileSize: 3.029 MiB