Package: HoloFoodR Version: 1.1.0 Command: /Library/Frameworks/R.framework/Resources/bin/R CMD INSTALL HoloFoodR StartedAt: 2025-02-09 15:18:21 -0500 (Sun, 09 Feb 2025) EndedAt: 2025-02-09 15:19:02 -0500 (Sun, 09 Feb 2025) EllapsedTime: 41.5 seconds RetCode: 0 Status: OK