Package: HoloFoodR Version: 1.1.0 Command: /home/biocbuild/bbs-3.21-bioc/R/bin/R CMD build --keep-empty-dirs --no-resave-data HoloFoodR StartedAt: 2025-02-09 17:40:12 -0500 (Sun, 09 Feb 2025) EndedAt: 2025-02-09 17:43:30 -0500 (Sun, 09 Feb 2025) EllapsedTime: 197.3 seconds RetCode: 0 Status: OK PackageFile: HoloFoodR_1.1.0.tar.gz PackageFileSize: 2.969 MiB