Package: HoloFoodR Version: 1.1.0 Command: /home/biocbuild/bbs-3.21-bioc/R/bin/R CMD check --install=check:HoloFoodR.install-out.txt --library=/home/biocbuild/bbs-3.21-bioc/R/site-library --timings HoloFoodR_1.1.0.tar.gz StartedAt: 2025-02-03 23:18:40 -0500 (Mon, 03 Feb 2025) EndedAt: 2025-02-03 23:24:17 -0500 (Mon, 03 Feb 2025) EllapsedTime: 336.5 seconds RetCode: 0 Status: OK CheckDir: HoloFoodR.Rcheck Warnings: 0