Package: HoloFoodR Version: 1.1.0 Command: /home/biocbuild/bbs-3.21-bioc/R/bin/R CMD INSTALL HoloFoodR StartedAt: 2025-02-09 15:24:01 -0500 (Sun, 09 Feb 2025) EndedAt: 2025-02-09 15:24:32 -0500 (Sun, 09 Feb 2025) EllapsedTime: 30.6 seconds RetCode: 0 Status: OK