Package: HoloFoodR Version: 1.1.0 Command: rm -rf HoloFoodR.buildbin-libdir && mkdir HoloFoodR.buildbin-libdir && E:\biocbuild\bbs-3.21-bioc\R\bin\R.exe CMD INSTALL --build --library=HoloFoodR.buildbin-libdir HoloFoodR_1.1.0.tar.gz StartedAt: 2025-02-10 07:56:03 -0500 (Mon, 10 Feb 2025) EndedAt: 2025-02-10 07:57:00 -0500 (Mon, 10 Feb 2025) EllapsedTime: 57.3 seconds RetCode: 0 Status: OK PackageFile: HoloFoodR_1.1.0.zip PackageFileSize: 3.031 MiB