Package: HoloFoodR Version: 1.1.0 Command: chmod a+r HoloFoodR -R && E:\biocbuild\bbs-3.21-bioc\R\bin\R.exe CMD build --keep-empty-dirs --no-resave-data HoloFoodR StartedAt: 2025-02-09 19:16:15 -0500 (Sun, 09 Feb 2025) EndedAt: 2025-02-09 19:19:00 -0500 (Sun, 09 Feb 2025) EllapsedTime: 165.3 seconds RetCode: 0 Status: OK PackageFile: HoloFoodR_1.1.0.tar.gz PackageFileSize: 2.969 MiB