Package: HoloFoodR Version: 1.1.0 Command: E:\biocbuild\bbs-3.21-bioc\R\bin\R.exe CMD check --no-multiarch --install=check:HoloFoodR.install-out.txt --library=E:\biocbuild\bbs-3.21-bioc\R\library --no-vignettes --timings HoloFoodR_1.1.0.tar.gz StartedAt: 2025-02-10 01:59:07 -0500 (Mon, 10 Feb 2025) EndedAt: 2025-02-10 02:03:29 -0500 (Mon, 10 Feb 2025) EllapsedTime: 261.9 seconds RetCode: 0 Status: OK CheckDir: HoloFoodR.Rcheck Warnings: 0