Package: HuBMAPR Version: 1.1.7 Maintainer: Christine Hou MaintainerEmail: chris2018hou at gmail.com git_url: https://git.bioconductor.org/packages/HuBMAPR git_branch: devel git_last_commit: d1ddec9 git_last_commit_date: 2025-01-23 10:49:58 -0500 (Thu, 23 Jan 2025)