Package: HuBMAPR Version: 1.1.7 Command: /Library/Frameworks/R.framework/Resources/bin/R CMD build --keep-empty-dirs --no-resave-data HuBMAPR StartedAt: 2025-02-04 16:38:53 -0500 (Tue, 04 Feb 2025) EndedAt: 2025-02-04 16:39:09 -0500 (Tue, 04 Feb 2025) EllapsedTime: 16.2 seconds RetCode: 0 Status: OK PackageFile: HuBMAPR_1.1.7.tar.gz PackageFileSize: 1.361 MiB