Package: HuBMAPR Version: 1.1.7 Command: /Library/Frameworks/R.framework/Resources/bin/R CMD check --install=check:HuBMAPR.install-out.txt --library=/Library/Frameworks/R.framework/Resources/library --no-vignettes --timings HuBMAPR_1.1.7.tar.gz StartedAt: 2025-02-04 19:41:47 -0500 (Tue, 04 Feb 2025) EndedAt: 2025-02-04 19:42:35 -0500 (Tue, 04 Feb 2025) EllapsedTime: 48.6 seconds RetCode: 0 Status: OK CheckDir: HuBMAPR.Rcheck Warnings: 0