Package: HuBMAPR Version: 1.1.7 Command: /home/biocbuild/bbs-3.21-bioc/R/bin/R CMD build --keep-empty-dirs --no-resave-data HuBMAPR StartedAt: 2025-02-09 17:40:53 -0500 (Sun, 09 Feb 2025) EndedAt: 2025-02-09 17:41:17 -0500 (Sun, 09 Feb 2025) EllapsedTime: 24.0 seconds RetCode: 0 Status: OK PackageFile: HuBMAPR_1.1.7.tar.gz PackageFileSize: 1.362 MiB