Package: HuBMAPR Version: 1.1.7 Command: rm -rf HuBMAPR.buildbin-libdir && mkdir HuBMAPR.buildbin-libdir && E:\biocbuild\bbs-3.21-bioc\R\bin\R.exe CMD INSTALL --build --library=HuBMAPR.buildbin-libdir HuBMAPR_1.1.7.tar.gz StartedAt: 2025-02-10 07:56:21 -0500 (Mon, 10 Feb 2025) EndedAt: 2025-02-10 07:56:40 -0500 (Mon, 10 Feb 2025) EllapsedTime: 19.3 seconds RetCode: 0 Status: OK PackageFile: HuBMAPR_1.1.7.zip PackageFileSize: 1.343 MiB