Package: HuBMAPR Version: 1.1.7 Command: chmod a+r HuBMAPR -R && E:\biocbuild\bbs-3.21-bioc\R\bin\R.exe CMD build --keep-empty-dirs --no-resave-data HuBMAPR StartedAt: 2025-02-09 19:17:20 -0500 (Sun, 09 Feb 2025) EndedAt: 2025-02-09 19:17:50 -0500 (Sun, 09 Feb 2025) EllapsedTime: 30.7 seconds RetCode: 0 Status: OK PackageFile: HuBMAPR_1.1.7.tar.gz PackageFileSize: 1.287 MiB