Package: HuBMAPR Version: 1.1.7 Command: E:\biocbuild\bbs-3.21-bioc\R\bin\R.exe CMD INSTALL HuBMAPR StartedAt: 2025-02-04 15:27:37 -0500 (Tue, 04 Feb 2025) EndedAt: 2025-02-04 15:27:53 -0500 (Tue, 04 Feb 2025) EllapsedTime: 15.5 seconds RetCode: 0 Status: OK