Package: HybridMTest Version: 1.51.0 Command: rm -rf HybridMTest.buildbin-libdir && mkdir HybridMTest.buildbin-libdir && /Users/biocbuild/BBS/utils/build-universal.sh HybridMTest_1.51.0.tar.gz /Library/Frameworks/R.framework/Resources/bin/R HybridMTest.buildbin-libdir StartedAt: 2025-02-04 22:19:31 -0500 (Tue, 04 Feb 2025) EndedAt: 2025-02-04 22:19:34 -0500 (Tue, 04 Feb 2025) EllapsedTime: 3.1 seconds RetCode: 0 Status: OK PackageFile: HybridMTest_1.51.0.tgz PackageFileSize: 236.1 KiB