Package: HybridMTest Version: 1.51.0 Command: /home/biocbuild/R/R/bin/R CMD build --keep-empty-dirs --no-resave-data HybridMTest StartedAt: 2025-01-28 23:40:18 -0000 (Tue, 28 Jan 2025) EndedAt: 2025-01-28 23:40:32 -0000 (Tue, 28 Jan 2025) EllapsedTime: 14.0 seconds RetCode: 0 Status: OK PackageFile: HybridMTest_1.51.0.tar.gz PackageFileSize: 168.9 KiB