Package: HybridMTest Version: 1.51.0 Command: rm -rf HybridMTest.buildbin-libdir && mkdir HybridMTest.buildbin-libdir && /Users/biocbuild/BBS/utils/build-universal.sh HybridMTest_1.51.0.tar.gz /Library/Frameworks/R.framework/Resources/bin/R HybridMTest.buildbin-libdir StartedAt: 2025-02-10 00:58:11 -0500 (Mon, 10 Feb 2025) EndedAt: 2025-02-10 00:58:24 -0500 (Mon, 10 Feb 2025) EllapsedTime: 12.9 seconds RetCode: 0 Status: OK PackageFile: HybridMTest_1.51.0.tgz PackageFileSize: 235.4 KiB