Package: HybridMTest Version: 1.51.0 Command: /Library/Frameworks/R.framework/Resources/bin/R CMD build --keep-empty-dirs --no-resave-data HybridMTest StartedAt: 2025-02-09 17:06:54 -0500 (Sun, 09 Feb 2025) EndedAt: 2025-02-09 17:07:11 -0500 (Sun, 09 Feb 2025) EllapsedTime: 17.1 seconds RetCode: 0 Status: OK PackageFile: HybridMTest_1.51.0.tar.gz PackageFileSize: 172 KiB