Package: HybridMTest Version: 1.51.0 Command: /home/biocbuild/bbs-3.21-bioc/R/bin/R CMD build --keep-empty-dirs --no-resave-data HybridMTest StartedAt: 2025-02-09 17:41:12 -0500 (Sun, 09 Feb 2025) EndedAt: 2025-02-09 17:41:23 -0500 (Sun, 09 Feb 2025) EllapsedTime: 11.0 seconds RetCode: 0 Status: OK PackageFile: HybridMTest_1.51.0.tar.gz PackageFileSize: 171.8 KiB