Package: HybridMTest Version: 1.51.0 Command: /home/biocbuild/bbs-3.21-bioc/R/bin/R CMD check --install=check:HybridMTest.install-out.txt --library=/home/biocbuild/bbs-3.21-bioc/R/site-library --timings HybridMTest_1.51.0.tar.gz StartedAt: 2025-02-09 23:13:53 -0500 (Sun, 09 Feb 2025) EndedAt: 2025-02-09 23:14:29 -0500 (Sun, 09 Feb 2025) EllapsedTime: 36.0 seconds RetCode: 0 Status: OK CheckDir: HybridMTest.Rcheck Warnings: 0