Package: HybridMTest Version: 1.51.0 Command: /home/biocbuild/bbs-3.21-bioc/R/bin/R CMD INSTALL HybridMTest StartedAt: 2025-02-09 15:13:18 -0500 (Sun, 09 Feb 2025) EndedAt: 2025-02-09 15:13:25 -0500 (Sun, 09 Feb 2025) EllapsedTime: 6.4 seconds RetCode: 0 Status: OK