Package: IFAA Version: 1.9.0 Command: /Library/Frameworks/R.framework/Resources/bin/R CMD build --keep-empty-dirs --no-resave-data IFAA StartedAt: 2025-02-03 17:16:09 -0500 (Mon, 03 Feb 2025) EndedAt: 2025-02-03 17:16:56 -0500 (Mon, 03 Feb 2025) EllapsedTime: 46.5 seconds RetCode: 0 Status: OK PackageFile: IFAA_1.9.0.tar.gz PackageFileSize: 335.1 KiB