Package: IFAA Version: 1.9.0 Command: rm -rf IFAA.buildbin-libdir && mkdir IFAA.buildbin-libdir && /Users/biocbuild/BBS/utils/build-universal.sh IFAA_1.9.0.tar.gz /Library/Frameworks/R.framework/Resources/bin/R IFAA.buildbin-libdir StartedAt: 2025-02-10 00:58:24 -0500 (Mon, 10 Feb 2025) EndedAt: 2025-02-10 00:59:04 -0500 (Mon, 10 Feb 2025) EllapsedTime: 40.7 seconds RetCode: 0 Status: OK PackageFile: IFAA_1.9.0.tgz PackageFileSize: 384 KiB