Package: IFAA Version: 1.9.0 Command: /Library/Frameworks/R.framework/Resources/bin/R CMD build --keep-empty-dirs --no-resave-data IFAA StartedAt: 2025-02-03 17:08:12 -0500 (Mon, 03 Feb 2025) EndedAt: 2025-02-03 17:10:58 -0500 (Mon, 03 Feb 2025) EllapsedTime: 165.6 seconds RetCode: 0 Status: OK PackageFile: IFAA_1.9.0.tar.gz PackageFileSize: 298.3 KiB