Package: IFAA Version: 1.9.0 Command: /Library/Frameworks/R.framework/Resources/bin/R CMD check --install=check:IFAA.install-out.txt --library=/Library/Frameworks/R.framework/Resources/library --no-vignettes --timings IFAA_1.9.0.tar.gz StartedAt: 2025-02-09 21:22:05 -0500 (Sun, 09 Feb 2025) EndedAt: 2025-02-09 21:30:36 -0500 (Sun, 09 Feb 2025) EllapsedTime: 510.9 seconds RetCode: 0 Status: OK CheckDir: IFAA.Rcheck Warnings: 0