Package: IFAA Version: 1.9.0 Command: /home/biocbuild/bbs-3.21-bioc/R/bin/R CMD build --keep-empty-dirs --no-resave-data IFAA StartedAt: 2025-02-09 17:42:43 -0500 (Sun, 09 Feb 2025) EndedAt: 2025-02-09 17:45:05 -0500 (Sun, 09 Feb 2025) EllapsedTime: 142.2 seconds RetCode: 0 Status: OK PackageFile: IFAA_1.9.0.tar.gz PackageFileSize: 298.2 KiB