Package: IFAA Version: 1.9.0 Command: /home/biocbuild/bbs-3.21-bioc/R/bin/R CMD check --install=check:IFAA.install-out.txt --library=/home/biocbuild/bbs-3.21-bioc/R/site-library --timings IFAA_1.9.0.tar.gz StartedAt: 2025-02-09 23:17:06 -0500 (Sun, 09 Feb 2025) EndedAt: 2025-02-09 23:27:00 -0500 (Sun, 09 Feb 2025) EllapsedTime: 594.8 seconds RetCode: 0 Status: OK CheckDir: IFAA.Rcheck Warnings: 0