Package: IFAA Version: 1.9.0 Command: rm -rf IFAA.buildbin-libdir && mkdir IFAA.buildbin-libdir && E:\biocbuild\bbs-3.21-bioc\R\bin\R.exe CMD INSTALL --build --library=IFAA.buildbin-libdir IFAA_1.9.0.tar.gz StartedAt: 2025-02-04 08:10:35 -0500 (Tue, 04 Feb 2025) EndedAt: 2025-02-04 08:11:25 -0500 (Tue, 04 Feb 2025) EllapsedTime: 49.8 seconds RetCode: 0 Status: OK PackageFile: IFAA_1.9.0.zip PackageFileSize: 388.6 KiB