Package: IFAA Version: 1.9.0 Command: chmod a+r IFAA -R && E:\biocbuild\bbs-3.21-bioc\R\bin\R.exe CMD build --keep-empty-dirs --no-resave-data IFAA StartedAt: 2025-02-09 19:19:41 -0500 (Sun, 09 Feb 2025) EndedAt: 2025-02-09 19:21:45 -0500 (Sun, 09 Feb 2025) EllapsedTime: 124.6 seconds RetCode: 0 Status: OK PackageFile: IFAA_1.9.0.tar.gz PackageFileSize: 299.4 KiB