Package: IFAA Version: 1.9.0 Command: E:\biocbuild\bbs-3.21-bioc\R\bin\R.exe CMD check --no-multiarch --install=check:IFAA.install-out.txt --library=E:\biocbuild\bbs-3.21-bioc\R\library --no-vignettes --timings IFAA_1.9.0.tar.gz StartedAt: 2025-02-04 02:31:47 -0500 (Tue, 04 Feb 2025) EndedAt: 2025-02-04 02:40:32 -0500 (Tue, 04 Feb 2025) EllapsedTime: 525.0 seconds RetCode: 0 Status: OK CheckDir: IFAA.Rcheck Warnings: 0