Package: IHW Version: 1.35.0 Command: /Library/Frameworks/R.framework/Resources/bin/R CMD build --keep-empty-dirs --no-resave-data IHW StartedAt: 2025-02-03 17:16:30 -0500 (Mon, 03 Feb 2025) EndedAt: 2025-02-03 17:17:30 -0500 (Mon, 03 Feb 2025) EllapsedTime: 60.7 seconds RetCode: 0 Status: OK PackageFile: IHW_1.35.0.tar.gz PackageFileSize: 4.763 MiB