Package: IHW Version: 1.35.0 Command: /home/biocbuild/R/R/bin/R CMD build --keep-empty-dirs --no-resave-data IHW StartedAt: 2025-01-28 23:42:50 -0000 (Tue, 28 Jan 2025) EndedAt: 2025-01-28 23:46:07 -0000 (Tue, 28 Jan 2025) EllapsedTime: 196.2 seconds RetCode: 0 Status: OK PackageFile: IHW_1.35.0.tar.gz PackageFileSize: 2.091 MiB