Package: IHW Version: 1.35.0 Command: /home/biocbuild/R/R/bin/R CMD check --install=check:IHW.install-out.txt --library=/home/biocbuild/R/R/site-library --no-vignettes --timings IHW_1.35.0.tar.gz StartedAt: 2025-01-28 11:36:53 -0000 (Tue, 28 Jan 2025) EndedAt: 2025-01-28 11:37:48 -0000 (Tue, 28 Jan 2025) EllapsedTime: 55.1 seconds RetCode: 0 Status: OK CheckDir: IHW.Rcheck Warnings: 0