Package: IHW Version: 1.35.0 Command: /home/biocbuild/R/R/bin/R CMD INSTALL IHW StartedAt: 2025-01-29 19:48:57 -0000 (Wed, 29 Jan 2025) EndedAt: 2025-01-29 19:49:02 -0000 (Wed, 29 Jan 2025) EllapsedTime: 5.1 seconds RetCode: 0 Status: OK