Package: IHW Version: 1.35.0 Command: rm -rf IHW.buildbin-libdir && mkdir IHW.buildbin-libdir && /Users/biocbuild/BBS/utils/build-universal.sh IHW_1.35.0.tar.gz /Library/Frameworks/R.framework/Resources/bin/R IHW.buildbin-libdir StartedAt: 2025-02-10 00:58:31 -0500 (Mon, 10 Feb 2025) EndedAt: 2025-02-10 00:58:41 -0500 (Mon, 10 Feb 2025) EllapsedTime: 10.5 seconds RetCode: 0 Status: OK PackageFile: IHW_1.35.0.tgz PackageFileSize: 4.853 MiB