Package: IHW Version: 1.35.0 Command: /Library/Frameworks/R.framework/Resources/bin/R CMD build --keep-empty-dirs --no-resave-data IHW StartedAt: 2025-02-09 17:08:32 -0500 (Sun, 09 Feb 2025) EndedAt: 2025-02-09 17:11:30 -0500 (Sun, 09 Feb 2025) EllapsedTime: 178.6 seconds RetCode: 0 Status: OK PackageFile: IHW_1.35.0.tar.gz PackageFileSize: 4.658 MiB