Package: IHW Version: 1.35.0 Command: /Library/Frameworks/R.framework/Resources/bin/R CMD INSTALL IHW StartedAt: 2025-02-09 15:20:36 -0500 (Sun, 09 Feb 2025) EndedAt: 2025-02-09 15:20:42 -0500 (Sun, 09 Feb 2025) EllapsedTime: 5.6 seconds RetCode: 0 Status: OK