Package: IHW Version: 1.35.0 Command: /home/biocbuild/bbs-3.21-bioc/R/bin/R CMD build --keep-empty-dirs --no-resave-data IHW StartedAt: 2025-02-04 17:41:01 -0500 (Tue, 04 Feb 2025) EndedAt: 2025-02-04 17:42:57 -0500 (Tue, 04 Feb 2025) EllapsedTime: 116.3 seconds RetCode: 0 Status: OK PackageFile: IHW_1.35.0.tar.gz PackageFileSize: 4.014 MiB