Package: IHW Version: 1.35.0 Command: rm -rf IHW.buildbin-libdir && mkdir IHW.buildbin-libdir && E:\biocbuild\bbs-3.21-bioc\R\bin\R.exe CMD INSTALL --build --library=IHW.buildbin-libdir IHW_1.35.0.tar.gz StartedAt: 2025-02-10 07:57:19 -0500 (Mon, 10 Feb 2025) EndedAt: 2025-02-10 07:57:55 -0500 (Mon, 10 Feb 2025) EllapsedTime: 36.9 seconds RetCode: 0 Status: OK PackageFile: IHW_1.35.0.zip PackageFileSize: 1.632 MiB