Package: IHW Version: 1.35.0 Command: chmod a+r IHW -R && E:\biocbuild\bbs-3.21-bioc\R\bin\R.exe CMD build --keep-empty-dirs --no-resave-data IHW StartedAt: 2025-02-03 19:32:08 -0500 (Mon, 03 Feb 2025) EndedAt: 2025-02-03 19:37:07 -0500 (Mon, 03 Feb 2025) EllapsedTime: 298.3 seconds RetCode: 0 Status: OK PackageFile: IHW_1.35.0.tar.gz PackageFileSize: 1.436 MiB