Package: IHW Version: 1.35.0 Command: E:\biocbuild\bbs-3.21-bioc\R\bin\R.exe CMD check --no-multiarch --install=check:IHW.install-out.txt --library=E:\biocbuild\bbs-3.21-bioc\R\library --no-vignettes --timings IHW_1.35.0.tar.gz StartedAt: 2025-02-04 02:32:48 -0500 (Tue, 04 Feb 2025) EndedAt: 2025-02-04 02:34:12 -0500 (Tue, 04 Feb 2025) EllapsedTime: 84.1 seconds RetCode: 0 Status: OK CheckDir: IHW.Rcheck Warnings: 0