Package: IHW Version: 1.35.0 Command: E:\biocbuild\bbs-3.21-bioc\R\bin\R.exe CMD INSTALL IHW StartedAt: 2025-02-03 15:44:10 -0500 (Mon, 03 Feb 2025) EndedAt: 2025-02-03 15:44:28 -0500 (Mon, 03 Feb 2025) EllapsedTime: 18.1 seconds RetCode: 0 Status: OK