Package: ILoReg Version: 1.17.0 Command: /Library/Frameworks/R.framework/Resources/bin/R CMD build --keep-empty-dirs --no-resave-data ILoReg StartedAt: 2025-02-12 16:40:48 -0500 (Wed, 12 Feb 2025) EndedAt: 2025-02-12 16:41:42 -0500 (Wed, 12 Feb 2025) EllapsedTime: 53.5 seconds RetCode: 0 Status: OK PackageFile: ILoReg_1.17.0.tar.gz PackageFileSize: 2.763 MiB