Package: ILoReg Version: 1.17.0 Command: /Library/Frameworks/R.framework/Resources/bin/R CMD check --install=check:ILoReg.install-out.txt --library=/Library/Frameworks/R.framework/Resources/library --no-vignettes --timings ILoReg_1.17.0.tar.gz StartedAt: 2025-02-12 19:46:31 -0500 (Wed, 12 Feb 2025) EndedAt: 2025-02-12 19:48:29 -0500 (Wed, 12 Feb 2025) EllapsedTime: 117.4 seconds RetCode: 0 Status: WARNINGS CheckDir: ILoReg.Rcheck Warnings: 2