Package: ILoReg Version: 1.17.0 Command: rm -rf ILoReg.buildbin-libdir && mkdir ILoReg.buildbin-libdir && /Users/biocbuild/BBS/utils/build-universal.sh ILoReg_1.17.0.tar.gz /Library/Frameworks/R.framework/Resources/bin/R ILoReg.buildbin-libdir StartedAt: 2025-02-05 00:44:49 -0500 (Wed, 05 Feb 2025) EndedAt: 2025-02-05 00:45:33 -0500 (Wed, 05 Feb 2025) EllapsedTime: 44.1 seconds RetCode: 0 Status: OK PackageFile: ILoReg_1.17.0.tgz PackageFileSize: 3.111 MiB