Package: ILoReg Version: 1.17.0 Command: /Library/Frameworks/R.framework/Resources/bin/R CMD build --keep-empty-dirs --no-resave-data ILoReg StartedAt: 2025-02-09 17:08:48 -0500 (Sun, 09 Feb 2025) EndedAt: 2025-02-09 17:11:52 -0500 (Sun, 09 Feb 2025) EllapsedTime: 184.3 seconds RetCode: 0 Status: OK PackageFile: ILoReg_1.17.0.tar.gz PackageFileSize: 2.746 MiB