Package: ILoReg Version: 1.17.0 Command: /Library/Frameworks/R.framework/Resources/bin/R CMD INSTALL ILoReg StartedAt: 2025-02-04 15:44:22 -0500 (Tue, 04 Feb 2025) EndedAt: 2025-02-04 15:44:58 -0500 (Tue, 04 Feb 2025) EllapsedTime: 36.8 seconds RetCode: 0 Status: OK